BEGIN:VCALENDAR
VERSION:2.0
PRODID:-//Tukios.com/
BEGIN:VEVENT
UID:bb11b216-753c-4809-a52d-99e4aac6e34c@www.baileycox.com
DTSTAMP:20260422T221248Z
DTSTART:20260424T180000Z
DTEND:20260424T190000Z
SUMMARY:Graveside Service
DESCRIPTION:
URL:https://www.baileycox.com/obituaries/micki-smith
LOCATION:Greenlawn Cemetery C Hwy  Plattsburg MO 64477
GEO:39.5655549;-94.4480059
END:VEVENT
END:VCALENDAR